BEGIN:VCALENDAR
VERSION:2.0
PRODID:-//Cultivating Community - ECPv6.15.11//NONSGML v1.0//EN
CALSCALE:GREGORIAN
METHOD:PUBLISH
X-ORIGINAL-URL:https://cultivatingcommunity.org
X-WR-CALDESC:Events for Cultivating Community
REFRESH-INTERVAL;VALUE=DURATION:PT1H
X-Robots-Tag:noindex
X-PUBLISHED-TTL:PT1H
BEGIN:VTIMEZONE
TZID:America/New_York
BEGIN:DAYLIGHT
TZOFFSETFROM:-0500
TZOFFSETTO:-0400
TZNAME:EDT
DTSTART:20250309T070000
END:DAYLIGHT
BEGIN:STANDARD
TZOFFSETFROM:-0400
TZOFFSETTO:-0500
TZNAME:EST
DTSTART:20251102T060000
END:STANDARD
BEGIN:DAYLIGHT
TZOFFSETFROM:-0500
TZOFFSETTO:-0400
TZNAME:EDT
DTSTART:20260308T070000
END:DAYLIGHT
BEGIN:STANDARD
TZOFFSETFROM:-0400
TZOFFSETTO:-0500
TZNAME:EST
DTSTART:20261101T060000
END:STANDARD
BEGIN:DAYLIGHT
TZOFFSETFROM:-0500
TZOFFSETTO:-0400
TZNAME:EDT
DTSTART:20270314T070000
END:DAYLIGHT
BEGIN:STANDARD
TZOFFSETFROM:-0400
TZOFFSETTO:-0500
TZNAME:EST
DTSTART:20271107T060000
END:STANDARD
END:VTIMEZONE
BEGIN:VEVENT
DTSTART;TZID=America/New_York:20260822T090000
DTEND;TZID=America/New_York:20260822T110000
DTSTAMP:20260423T174134
CREATED:20260319T201318Z
LAST-MODIFIED:20260319T201318Z
UID:2917-1787389200-1787396400@cultivatingcommunity.org
SUMMARY:Summer Volunteer Days: Valley St Community Garden
DESCRIPTION:Come and help us take care of Portland’s community gardens! Get your farmer tan on! Weeding and mulching! Good company! \nEmail volunteer@cultivatingcommunity to RSVP so we make sure we have plenty of snacks to go around. Be sure to wear weather-appropriate clothing and closed-toe shoes\, bring water\, and put on some sun screen! Garden tools and gloves will be provided\, but you’re encouraged to bring your own if you’re able. \nSee you there!
URL:https://cultivatingcommunity.org/event/summer-volunteer-days-valley-st-community-garden/
LOCATION:Valley St Community Garden\, 138 Valley St\, Portland\, ME\, 04102\, United States
ATTACH;FMTTYPE=image/jpeg:https://cultivatingcommunity.org/wp-content/uploads/2025/04/IMG_4090.jpg
END:VEVENT
END:VCALENDAR