BEGIN:VCALENDAR
VERSION:2.0
PRODID:-//Cultivating Community - ECPv6.15.11//NONSGML v1.0//EN
CALSCALE:GREGORIAN
METHOD:PUBLISH
X-ORIGINAL-URL:https://cultivatingcommunity.org
X-WR-CALDESC:Events for Cultivating Community
REFRESH-INTERVAL;VALUE=DURATION:PT1H
X-Robots-Tag:noindex
X-PUBLISHED-TTL:PT1H
BEGIN:VTIMEZONE
TZID:America/New_York
BEGIN:DAYLIGHT
TZOFFSETFROM:-0500
TZOFFSETTO:-0400
TZNAME:EDT
DTSTART:20240310T070000
END:DAYLIGHT
BEGIN:STANDARD
TZOFFSETFROM:-0400
TZOFFSETTO:-0500
TZNAME:EST
DTSTART:20241103T060000
END:STANDARD
BEGIN:DAYLIGHT
TZOFFSETFROM:-0500
TZOFFSETTO:-0400
TZNAME:EDT
DTSTART:20250309T070000
END:DAYLIGHT
BEGIN:STANDARD
TZOFFSETFROM:-0400
TZOFFSETTO:-0500
TZNAME:EST
DTSTART:20251102T060000
END:STANDARD
BEGIN:DAYLIGHT
TZOFFSETFROM:-0500
TZOFFSETTO:-0400
TZNAME:EDT
DTSTART:20260308T070000
END:DAYLIGHT
BEGIN:STANDARD
TZOFFSETFROM:-0400
TZOFFSETTO:-0500
TZNAME:EST
DTSTART:20261101T060000
END:STANDARD
END:VTIMEZONE
BEGIN:VEVENT
DTSTART;TZID=America/New_York:20251025T100000
DTEND;TZID=America/New_York:20251025T140000
DTSTAMP:20260425T130112
CREATED:20250930T195712Z
LAST-MODIFIED:20251023T150818Z
UID:2736-1761386400-1761400800@cultivatingcommunity.org
SUMMARY:Great Garlic Gathering
DESCRIPTION:Help us plant 5\,000 cloves of garlic!\nJoin us at Hurricane Valley Community Farm to celebrate the harvest season and help plant next year’s garlic harvest. This free\, family-friendly event is a benefit to support local food security and farming families. See you there! \n\nLive music from Baba Ly and The High Spirits\nKids activities and s’mores\nFood trucks\nFarm tours\nLocal artists and prints\nAnd more!\n\n\n\n\n\n\nSupport Cultivating Community and give the gift of garlic!
URL:https://cultivatingcommunity.org/event/great-garlic-gathering/
LOCATION:Hurricane Valley Farm\, 429 Grey Rd\, Falmouth\, ME\, 04107\, United States
END:VEVENT
END:VCALENDAR