BEGIN:VCALENDAR
VERSION:2.0
PRODID:-//Cultivating Community - ECPv6.15.11//NONSGML v1.0//EN
CALSCALE:GREGORIAN
METHOD:PUBLISH
X-ORIGINAL-URL:https://cultivatingcommunity.org
X-WR-CALDESC:Events for Cultivating Community
REFRESH-INTERVAL;VALUE=DURATION:PT1H
X-Robots-Tag:noindex
X-PUBLISHED-TTL:PT1H
BEGIN:VTIMEZONE
TZID:America/New_York
BEGIN:DAYLIGHT
TZOFFSETFROM:-0500
TZOFFSETTO:-0400
TZNAME:EDT
DTSTART:20240310T070000
END:DAYLIGHT
BEGIN:STANDARD
TZOFFSETFROM:-0400
TZOFFSETTO:-0500
TZNAME:EST
DTSTART:20241103T060000
END:STANDARD
BEGIN:DAYLIGHT
TZOFFSETFROM:-0500
TZOFFSETTO:-0400
TZNAME:EDT
DTSTART:20250309T070000
END:DAYLIGHT
BEGIN:STANDARD
TZOFFSETFROM:-0400
TZOFFSETTO:-0500
TZNAME:EST
DTSTART:20251102T060000
END:STANDARD
BEGIN:DAYLIGHT
TZOFFSETFROM:-0500
TZOFFSETTO:-0400
TZNAME:EDT
DTSTART:20260308T070000
END:DAYLIGHT
BEGIN:STANDARD
TZOFFSETFROM:-0400
TZOFFSETTO:-0500
TZNAME:EST
DTSTART:20261101T060000
END:STANDARD
END:VTIMEZONE
BEGIN:VEVENT
DTSTART;TZID=America/New_York:20251023T080000
DTEND;TZID=America/New_York:20251023T170000
DTSTAMP:20260425T130113
CREATED:20251023T152156Z
LAST-MODIFIED:20251023T152156Z
UID:2776-1761206400-1761238800@cultivatingcommunity.org
SUMMARY:Hurricane Valley Farm Volunteer Opportunity
DESCRIPTION:Calling All Decoration And Detail-Loving People!\n\nWhen: October 23rd\, 1-5 PM\nWhere: Hurricane Valley Farm\, Falmouth\n  \nPut those glamorous skills to work in preparation for our Great Garlic Gathering event.\nThis volunteer afternoon will involve stringing up lights\, setting up event tables\, putting up signs and decorations\, and arranging the food truck and children’s areas. \nWe will provide all necessary supplies\, light snacks\, and a refillable water station.\n\n\n\n\n\n\n\n\n\n\n\n\n\n\n\nWant to sign up? Have questions?\n\nSIGN UP HERE\n\n\n\n\n\n\nNeed directions?
URL:https://cultivatingcommunity.org/event/hurricane-valley-farm-volunteer-opportunity/
END:VEVENT
END:VCALENDAR